BEGIN:VCALENDAR
VERSION:2.0
PRODID:icalendar-ruby
CALSCALE:GREGORIAN
METHOD:PUBLISH
BEGIN:VEVENT
DTSTAMP:20260423T202149Z
UID:27-2339891@allpeoplesgathering.org
DTSTART:20261102T233000Z
DTEND:20261103T001500Z
CLASS:PUBLIC
CREATED:20260423T145819
DESCRIPTION:Come and get a warm meal.
LAST-MODIFIED:20260423T145819
LOCATION:All Peoples Gathering Church
SUMMARY:St. Vincent De Paul Dinner
URL;VALUE=URI:https://allpeoplesgathering.org/events/st-vincent-de-paul-din
 ner/2026-11-02
END:VEVENT
END:VCALENDAR
