BEGIN:VCALENDAR
VERSION:2.0
PRODID:icalendar-ruby
CALSCALE:GREGORIAN
METHOD:PUBLISH
BEGIN:VEVENT
DTSTAMP:20260423T193929Z
UID:44-2338793@allpeoplesgathering.org
DTSTART:20261029T223000Z
DTEND:20261029T231500Z
CLASS:PUBLIC
CREATED:20260423T120141
DESCRIPTION:Come and get a hot meal.
LAST-MODIFIED:20260423T120141
LOCATION:APGC
SUMMARY:St. Vincent de Paul Meal
URL;VALUE=URI:https://allpeoplesgathering.org/events/st-vincent-de-paul-mea
 l--44/2026-10-29
END:VEVENT
END:VCALENDAR
