BEGIN:VCALENDAR
VERSION:2.0
PRODID:icalendar-ruby
CALSCALE:GREGORIAN
METHOD:PUBLISH
BEGIN:VEVENT
DTSTAMP:20260423T193946Z
UID:42-2338423@allpeoplesgathering.org
DTSTART:20261013T223000Z
DTEND:20261013T231500Z
CLASS:PUBLIC
CREATED:20260423T120139
DESCRIPTION:Come and get a warm meal.
LAST-MODIFIED:20260423T120139
LOCATION:APGC
SUMMARY:St. Vincent de Paul Meal
URL;VALUE=URI:https://allpeoplesgathering.org/events/st-vincent-de-paul-mea
 l/2026-10-13
END:VEVENT
END:VCALENDAR
