BEGIN:VCALENDAR
VERSION:2.0
PRODID:icalendar-ruby
CALSCALE:GREGORIAN
METHOD:PUBLISH
BEGIN:VEVENT
DTSTAMP:20260423T230039Z
UID:42-2341724@allpeoplesgathering.org
DTSTART:20261103T233000Z
DTEND:20261104T001500Z
CLASS:PUBLIC
CREATED:20260423T175226
DESCRIPTION:Come and get a warm meal.
LAST-MODIFIED:20260423T175226
LOCATION:APGC
SUMMARY:St. Vincent de Paul Meal
URL;VALUE=URI:https://allpeoplesgathering.org/events/st-vincent-de-paul-mea
 l/2026-11-03
END:VEVENT
END:VCALENDAR
